BEGIN:VCALENDAR
VERSION:2.0
PRODID:-//Georgeham Parish Council//Meeting Calendar//EN
CALSCALE:GREGORIAN
METHOD:PUBLISH
BEGIN:VEVENT
UID:79950-20260319@georgehamparishcouncil.gov.uk
DTSTAMP:20260423T084104Z
DTSTART;VALUE=DATE:20260319
DTEND;VALUE=DATE:20260320
SUMMARY:Full Council Meeting &#8211\\; 19th March 2026
DESCRIPTION:Full Council Meeting\nView details: https://georgehamparishcouncil.gov.uk/meetings/full-council-meeting-19th-march-2026/
URL:https://georgehamparishcouncil.gov.uk/meetings/full-council-meeting-19th-march-2026/
END:VEVENT
END:VCALENDAR
