BEGIN:VCALENDAR
VERSION:2.0
PRODID:-//Georgeham Parish Council//Meeting Calendar//EN
CALSCALE:GREGORIAN
METHOD:PUBLISH
BEGIN:VEVENT
UID:76368-20241128@georgehamparishcouncil.gov.uk
DTSTAMP:20260419T140039Z
DTSTART;VALUE=DATE:20241128
DTEND;VALUE=DATE:20241129
SUMMARY:Full Council Meeting &#8211\\; 28th November 2024
DESCRIPTION:Full Council Meeting\nView details: https://georgehamparishcouncil.gov.uk/meetings/full-council-meeting-28th-november-2024/
URL:https://georgehamparishcouncil.gov.uk/meetings/full-council-meeting-28th-november-2024/
END:VEVENT
END:VCALENDAR
