BEGIN:VCALENDAR
VERSION:2.0
PRODID:-//Georgeham Parish Council//Meeting Calendar//EN
CALSCALE:GREGORIAN
METHOD:PUBLISH
BEGIN:VEVENT
UID:76296-20241010@georgehamparishcouncil.gov.uk
DTSTAMP:20260424T082622Z
DTSTART;VALUE=DATE:20241010
DTEND;VALUE=DATE:20241011
SUMMARY:Full Council Meeting &#8211\\; 10th October 2024
DESCRIPTION:Full Council Meeting\nView details: https://georgehamparishcouncil.gov.uk/meetings/full-council-meeting-10th-october-2024/
URL:https://georgehamparishcouncil.gov.uk/meetings/full-council-meeting-10th-october-2024/
END:VEVENT
END:VCALENDAR
