BEGIN:VCALENDAR
VERSION:2.0
PRODID:-//Georgeham Parish Council//Meeting Calendar//EN
CALSCALE:GREGORIAN
METHOD:PUBLISH
BEGIN:VEVENT
UID:72553-20240104@georgehamparishcouncil.gov.uk
DTSTAMP:20260419T174609Z
DTSTART;VALUE=DATE:20240104
DTEND;VALUE=DATE:20240105
SUMMARY:Full Council Meeting &#8211\\; 4th January 2024
DESCRIPTION:Full Council Meeting\nView details: https://georgehamparishcouncil.gov.uk/meetings/full-council-meeting-4th-january-2024/
URL:https://georgehamparishcouncil.gov.uk/meetings/full-council-meeting-4th-january-2024/
END:VEVENT
END:VCALENDAR
