BEGIN:VCALENDAR
VERSION:2.0
PRODID:-//Georgeham Parish Council//Meeting Calendar//EN
CALSCALE:GREGORIAN
METHOD:PUBLISH
BEGIN:VEVENT
UID:72444-20231214@georgehamparishcouncil.gov.uk
DTSTAMP:20260423T083625Z
DTSTART;VALUE=DATE:20231214
DTEND;VALUE=DATE:20231215
SUMMARY:Full Council Meeting &#8211\\; 14th December 2023
DESCRIPTION:Full Council Meeting\nView details: https://georgehamparishcouncil.gov.uk/meetings/meetinfull-council-meeting-14th-december-2023g-name-here/
URL:https://georgehamparishcouncil.gov.uk/meetings/meetinfull-council-meeting-14th-december-2023g-name-here/
END:VEVENT
END:VCALENDAR
