BEGIN:VCALENDAR
VERSION:2.0
PRODID:-//Georgeham Parish Council//Meeting Calendar//EN
CALSCALE:GREGORIAN
METHOD:PUBLISH
BEGIN:VEVENT
UID:70528-20220210@georgehamparishcouncil.gov.uk
DTSTAMP:20260423T083625Z
DTSTART;VALUE=DATE:20220210
DTEND;VALUE=DATE:20220211
SUMMARY:Full Council Meeting &#8211\\; 10th February 2022
DESCRIPTION:Full Council Meeting\nView details: https://georgehamparishcouncil.gov.uk/meetings/full-council-meeting-10th-february-2022/
URL:https://georgehamparishcouncil.gov.uk/meetings/full-council-meeting-10th-february-2022/
END:VEVENT
END:VCALENDAR
