BEGIN:VCALENDAR
VERSION:2.0
PRODID:-//Georgeham Parish Council//Meeting Calendar//EN
CALSCALE:GREGORIAN
METHOD:PUBLISH
BEGIN:VEVENT
UID:70515-20181231@georgehamparishcouncil.gov.uk
DTSTAMP:20260423T083726Z
DTSTART;VALUE=DATE:20181231
DTEND;VALUE=DATE:20190101
SUMMARY:Full Council Agendas and Minutes &#8211\\; 2018
DESCRIPTION:Full Council Meeting\nView details: https://georgehamparishcouncil.gov.uk/meetings/full-council-agendas-and-minutes-2018/
URL:https://georgehamparishcouncil.gov.uk/meetings/full-council-agendas-and-minutes-2018/
END:VEVENT
END:VCALENDAR
